BEGIN:VCALENDAR
VERSION:2.0
PRODID:-//hacksw/handcal//NONSGML v1.0//EN
CALSCALE:GREGORIAN
BEGIN:VEVENT
DTSTART:20230510T073000Z
DTEND:20230509T230000Z
SUMMARY:Nuove Linee guida ESMA sulla Product governance
DTSTAMP:20260421T141156Z
UID:69e785ac2018d
END:VEVENT
END:VCALENDAR