BEGIN:VCALENDAR
VERSION:2.0
PRODID:-//hacksw/handcal//NONSGML v1.0//EN
CALSCALE:GREGORIAN
BEGIN:VEVENT
DTSTART:20171109T080000Z
DTEND:20171110T160000Z
SUMMARY:MiFID II alla luce del decreto di attuazione 3 agosto 2017 n. 129
DTSTAMP:20260421T142638Z
UID:69e7891e6e0f6
END:VEVENT
END:VCALENDAR