BEGIN:VCALENDAR
VERSION:2.0
PRODID:-//hacksw/handcal//NONSGML v1.0//EN
CALSCALE:GREGORIAN
BEGIN:VEVENT
DTSTART:20180510T070000Z
DTEND:20180510T153000Z
SUMMARY:Privacy nel settore bancario\, finanziario e dell’informatica bancaria
DTSTAMP:20260421T083820Z
UID:69e7377c4a952
END:VEVENT
END:VCALENDAR