BEGIN:VCALENDAR
VERSION:2.0
PRODID:-//hacksw/handcal//NONSGML v1.0//EN
CALSCALE:GREGORIAN
BEGIN:VEVENT
DTSTART:20181121T230000Z
DTEND:20181121T230000Z
SUMMARY:Market Abuse - L’impatto della normativa MAR sull’informativa societaria
DTSTAMP:20260422T044423Z
UID:69e85227c7284
END:VEVENT
END:VCALENDAR