BEGIN:VCALENDAR
VERSION:2.0
PRODID:-//hacksw/handcal//NONSGML v1.0//EN
CALSCALE:GREGORIAN
BEGIN:VEVENT
DTSTART:20190117T133000Z
DTEND:20190117T170000Z
SUMMARY:Politiche e prassi di remunerazione e incentivazione
DTSTAMP:20260422T062714Z
UID:69e86a422b8c6
END:VEVENT
END:VCALENDAR