BEGIN:VCALENDAR
VERSION:2.0
PRODID:-//hacksw/handcal//NONSGML v1.0//EN
CALSCALE:GREGORIAN
BEGIN:VEVENT
DTSTART:20190207T133000Z
DTEND:20190207T170000Z
SUMMARY:Governance dei prodotti bancari
DTSTAMP:20260421T004856Z
UID:69e6c978a9408
END:VEVENT
END:VCALENDAR