BEGIN:VCALENDAR
VERSION:2.0
PRODID:-//hacksw/handcal//NONSGML v1.0//EN
CALSCALE:GREGORIAN
BEGIN:VEVENT
DTSTART:20210709T073000Z
DTEND:20210709T110000Z
SUMMARY:Requisiti degli esponenti bancari: la procedura di valutazione
DTSTAMP:20260422T044424Z
UID:69e8522803829
END:VEVENT
END:VCALENDAR