BEGIN:VCALENDAR
VERSION:2.0
PRODID:-//hacksw/handcal//NONSGML v1.0//EN
CALSCALE:GREGORIAN
BEGIN:VEVENT
DTSTART:20200527T070000Z
DTEND:20200527T113000Z
SUMMARY:I nuovi golden powers nelle società quotate
DTSTAMP:20260422T044327Z
UID:69e851ef5c1ff
END:VEVENT
END:VCALENDAR