BEGIN:VCALENDAR
VERSION:2.0
PRODID:-//hacksw/handcal//NONSGML v1.0//EN
CALSCALE:GREGORIAN
BEGIN:VEVENT
DTSTART:20260609T073000Z
DTEND:20260609T110000Z
SUMMARY:Documenti informatici: archiviazione\, conservazione e consegna
DTSTAMP:20260421T161819Z
UID:69e7a34b0280c
END:VEVENT
END:VCALENDAR