BEGIN:VCALENDAR
VERSION:2.0
PRODID:-//hacksw/handcal//NONSGML v1.0//EN
CALSCALE:GREGORIAN
BEGIN:VEVENT
DTSTART:20250924T073000Z
DTEND:20250924T110000Z
SUMMARY:Il nuovo Arbitro Assicurativo
DTSTAMP:20260425T155813Z
UID:69ece49556007
END:VEVENT
END:VCALENDAR