BEGIN:VCALENDAR
VERSION:2.0
PRODID:-//hacksw/handcal//NONSGML v1.0//EN
CALSCALE:GREGORIAN
BEGIN:VEVENT
DTSTART:20250612T070000Z
DTEND:20250612T143000Z
SUMMARY:La gestione delle successioni ereditarie in banca
DTSTAMP:20260422T044439Z
UID:69e85237a0516
END:VEVENT
END:VCALENDAR