BEGIN:VCALENDAR
VERSION:2.0
PRODID:-//hacksw/handcal//NONSGML v1.0//EN
CALSCALE:GREGORIAN
BEGIN:VEVENT
DTSTART:20250515T073000Z
DTEND:20250515T110000Z
SUMMARY:Esternalizzazione nelle assicurazioni: le Aspettative di vigilanza IVASS
DTSTAMP:20260421T212856Z
UID:69e7ec181d3d1
END:VEVENT
END:VCALENDAR