BEGIN:VCALENDAR
VERSION:2.0
PRODID:-//hacksw/handcal//NONSGML v1.0//EN
CALSCALE:GREGORIAN
BEGIN:VEVENT
DTSTART:20250220T083000Z
DTEND:20250220T120000Z
SUMMARY:DORA: le richieste Banca d’Italia sulla gestione del rischio ICT
DTSTAMP:20260425T142022Z
UID:69eccda65e79a
END:VEVENT
END:VCALENDAR