BEGIN:VCALENDAR
VERSION:2.0
PRODID:-//hacksw/handcal//NONSGML v1.0//EN
CALSCALE:GREGORIAN
BEGIN:VEVENT
DTSTART:20240514T073000Z
DTEND:20240514T110000Z
SUMMARY:La POG nelle nuove aspettative di vigilanza IVASS
DTSTAMP:20260421T213548Z
UID:69e7edb47321d
END:VEVENT
END:VCALENDAR